View In:
ArcGIS JavaScript
ArcGIS Online Map Viewer
ArcGIS Earth
ArcMap
View Footprint In:
ArcGIS Online Map Viewer
Service Description: EarthQuake/ALOS2_RGB_210214
Name: EarthQuake/ALOS2_RGB_210214
Description:
Single Fused Map Cache: false
Extent:
XMin: 1.5613795354500003E7
YMin: 4412302.843518644
XMax: 1.574782489336588E7
YMax: 4654309.584200001
Spatial Reference: 102100
(3857)
LatestVCSWkid(0)
Initial Extent:
XMin: 1.5613795354500003E7
YMin: 4412302.843518644
XMax: 1.574782489336588E7
YMax: 4654309.584200001
Spatial Reference: 102100
(3857)
LatestVCSWkid(0)
Full Extent:
XMin: 1.5613795354500003E7
YMin: 4412302.843518644
XMax: 1.574782489336588E7
YMax: 4654309.584200001
Spatial Reference: 102100
(3857)
LatestVCSWkid(0)
Pixel Size X: 2.8055499731203257
Pixel Size Y: 2.805549973120307
Band Count: 3
Pixel Type: U8
RasterFunction Infos: {"rasterFunctionInfos": [{
"name": "None",
"description": "No Operation 関数。",
"help": ""
}]}
Mensuration Capabilities: Basic
Has Histograms: true
Has Colormap: false
Has Multi Dimensions : false
Rendering Rule:
Min Scale: 0
Max Scale: 0
Copyright Text:
Service Data Type: esriImageServiceDataTypeRGB
Min Values: 0, 0, 0
Max Values: 205, 205, 205
Mean Values: 76.58747347778186, 81.8542672875498, 81.8542672875498
Standard Deviation Values: 27.0225875381134, 23.661115110951798, 23.661115110951798
Object ID Field: OBJECTID
Fields:
-
OBJECTID
(
type: esriFieldTypeOID, alias: OBJECTID
)
-
Shape
(
type: esriFieldTypeGeometry, alias: Shape
)
-
Name
(
type: esriFieldTypeString, alias: Name, length: 200
)
-
MinPS
(
type: esriFieldTypeDouble, alias: MinPS
)
-
MaxPS
(
type: esriFieldTypeDouble, alias: MaxPS
)
-
LowPS
(
type: esriFieldTypeDouble, alias: LowPS
)
-
HighPS
(
type: esriFieldTypeDouble, alias: HighPS
)
-
Category
(
type: esriFieldTypeInteger, alias: Category
, Coded Values:
[0: Unknown]
, [1: Primary]
, [2: Overview]
, ...6 more...
)
-
Tag
(
type: esriFieldTypeString, alias: Tag, length: 100
)
-
GroupName
(
type: esriFieldTypeString, alias: GroupName, length: 100
)
-
ProductName
(
type: esriFieldTypeString, alias: ProductName, length: 100
)
-
CenterX
(
type: esriFieldTypeDouble, alias: CenterX
)
-
CenterY
(
type: esriFieldTypeDouble, alias: CenterY
)
-
ZOrder
(
type: esriFieldTypeInteger, alias: ZOrder
)
-
Shape_Length
(
type: esriFieldTypeDouble, alias: Shape_Length
)
-
Shape_Area
(
type: esriFieldTypeDouble, alias: Shape_Area
)
Default Mosaic Method: Northwest
Allowed Mosaic Methods: NorthWest,Center,LockRaster,ByAttribute,Nadir,Viewpoint,Seamline,None
SortField:
SortValue: null
Mosaic Operator: First
Default Compression Quality: 75
Default Resampling Method: Nearest
Max Record Count: 1000
Max Image Height: 4100
Max Image Width: 15000
Max Download Image Count: 20
Max Mosaic Image Count: 20
Allow Raster Function: true
Allow Copy: null
Allow Analysis: null
Allow Compute TiePoints: false
Supports Statistics: true
Supports Advanced Queries: true
Use StandardizedQueries: true
Raster Type Infos:
Name: Raster Dataset
Description: Supports all ArcGIS Raster Datasets
Help:
Has Raster Attribute Table: false
Edit Fields Info: null
Ownership Based AccessControl For Rasters: null
Child Resources:
Info
Histograms
Key Properties
Legend
Raster Function Infos
Supported Operations:
Export Image
Query
Identify
Measure
Compute Histograms
Compute Statistics Histograms
Get Samples
Compute Class Statistics
Query Boundary
Compute Pixel Location
Compute Angles
Validate
Project