View In:
ArcGIS JavaScript
ArcGIS Online Map Viewer
ArcGIS Earth
ArcMap
View Footprint In:
ArcGIS Online Map Viewer
Service Description: 2021_00004_SIP/NIED_Prcp_Strength
Name: 2021_00004_SIP/NIED_Prcp_Strength
Description:
Single Fused Map Cache: false
Extent:
XMin: 1.39010214128E7
YMin: 2733152.433771711
XMax: 1.628047552850294E7
YMax: 6010351.8596
Spatial Reference: 102100
(3857)
Initial Extent:
XMin: 1.39010214128E7
YMin: 2733152.433771711
XMax: 1.628047552850294E7
YMax: 6010351.8596
Spatial Reference: 102100
(3857)
Full Extent:
XMin: 1.39010214128E7
YMin: 2733152.433771711
XMax: 1.628047552850294E7
YMax: 6010351.8596
Spatial Reference: 102100
(3857)
Time Info:
Start Time Field: datatime
End Time Field: null
Time Extent:
[2021/08/09 00:00:00 UTC, 2021/08/19 23:50:00 UTC]
Time Reference:
N/A
Pixel Size X: 231.915605819
Pixel Size Y: 231.915605819
Band Count: 1
Pixel Type: F32
RasterFunction Infos: {"rasterFunctionInfos": [
{
"name": "None",
"description": "No Operation 関数。",
"help": ""
},
{
"name": "z",
"description": "ラスター関数のテンプレート。",
"help": ""
}
]}
Mensuration Capabilities: None
Has Histograms: false
Has Colormap: false
Has Multi Dimensions : true
Rendering Rule:
Min Scale: 0
Max Scale: 0
Copyright Text:
Service Data Type: esriImageServiceDataTypeScientific
Min Values: N/A
Max Values: N/A
Mean Values: N/A
Standard Deviation Values: N/A
Object ID Field: objectid
Fields:
-
objectid
(
type: esriFieldTypeOID, alias: objectid
)
-
name
(
type: esriFieldTypeString, alias: name, length: 200
)
-
minps
(
type: esriFieldTypeDouble, alias: minps
)
-
maxps
(
type: esriFieldTypeDouble, alias: maxps
)
-
lowps
(
type: esriFieldTypeDouble, alias: lowps
)
-
highps
(
type: esriFieldTypeDouble, alias: highps
)
-
category
(
type: esriFieldTypeInteger, alias: category
, Coded Values:
[0: Unknown]
, [1: Primary]
, [2: Overview]
, ...6 more...
)
-
tag
(
type: esriFieldTypeString, alias: tag, length: 100
)
-
groupname
(
type: esriFieldTypeString, alias: groupname, length: 100
)
-
productname
(
type: esriFieldTypeString, alias: productname, length: 100
)
-
centerx
(
type: esriFieldTypeDouble, alias: centerx
)
-
centery
(
type: esriFieldTypeDouble, alias: centery
)
-
zorder
(
type: esriFieldTypeInteger, alias: zorder
)
-
shape
(
type: esriFieldTypeGeometry, alias: shape
)
-
orgtime
(
type: esriFieldTypeDate, alias: orgtime, length: 8
)
-
datatime
(
type: esriFieldTypeDate, alias: datatime, length: 8
)
-
str_orgtime
(
type: esriFieldTypeString, alias: str_orgtime, length: 255
)
-
str_datatime
(
type: esriFieldTypeString, alias: str_datatime, length: 255
)
-
variable
(
type: esriFieldTypeString, alias: Variable, length: 50
)
-
dimensions
(
type: esriFieldTypeString, alias: Dimensions, length: 50
)
-
st_area(shape)
(
type: esriFieldTypeDouble, alias: st_area(shape)
)
-
st_length(shape)
(
type: esriFieldTypeDouble, alias: st_length(shape)
)
Default Mosaic Method: None
Allowed Mosaic Methods: None,NorthWest,Center,LockRaster,ByAttribute,Nadir,Viewpoint,Seamline
SortField: N/A
SortValue: N/A
Mosaic Operator: First
Default Compression Quality: 75
Default Resampling Method: Nearest
Max Record Count: 1000
Max Image Height: 4100
Max Image Width: 15000
Max Download Image Count: 20
Max Mosaic Image Count: 20
Allow Raster Function: true
Allow Compute TiePoints: false
Supports Statistics: true
Supports Advanced Queries: true
Use StandardizedQueries: true
Raster Type Infos:
Name: Raster Dataset
Description: Supports all ArcGIS Raster Datasets
Help:
Has Raster Attribute Table: false
Edit Fields Info: null
Ownership Based AccessControl For Rasters: null
Child Resources:
Info
Key Properties
Legend
MultiDimensionalInfo
rasterFunctionInfos
Supported Operations:
Export Image
Query
Identify
Compute Histograms
Compute Statistics Histograms
Get Samples
Compute Class Statistics
Query Boundary
Compute Pixel Location